OziExplorer Map Data File Version 2.2
sat_feb07_d14
sat_feb07_d14.jpg
1 ,Map Code,
WGS 84,WGS 84, 0.0000, 0.0000,WGS 84
Reserved 1
Reserved 2
Magnetic Variation,,,E
Map Projection,Mercator,PolyCal,No,AutoCalOnly,No,BSBUseWPX,No
Point01,xy, 0, 0,in, deg, 42, 19.563747,N, 77, 28.535156,E, grid, , , ,N
Point02,xy, 3072, 0,in, deg, 42, 19.563747,N, 78, 0.175781,E, grid, , , ,N
Point03,xy, 6143, 0,in, deg, 42, 19.563747,N, 78, 31.806107,E, grid, , , ,N
Point04,xy, 0, 2048,in, deg, 42, 3.936405,N, 77, 28.535156,E, grid, , , ,N
Point05,xy, 3072, 2048,in, deg, 42, 3.936405,N, 78, 0.175781,E, grid, , , ,N
Point06,xy, 6143, 2048,in, deg, 42, 3.936405,N, 78, 31.806107,E, grid, , , ,N
Point07,xy, 0, 4095,in, deg, 41, 48.252366,N, 77, 28.535156,E, grid, , , ,N
Point08,xy, 3072, 4095,in, deg, 41, 48.252366,N, 78, 0.175781,E, grid, , , ,N
Point09,xy, 6143, 4095,in, deg, 41, 48.252366,N, 78, 31.806107,E, grid, , , ,N
Point10,xy, , ,in, deg, , ,, , ,, grid, , , ,
Point11,xy, , ,in, deg, , ,, , ,, grid, , , ,
Point12,xy, , ,in, deg, , ,, , ,, grid, , , ,
Point13,xy, , ,in, deg, , ,, , ,, grid, , , ,
Point14,xy, , ,in, deg, , ,, , ,, grid, , , ,
Point15,xy, , ,in, deg, , ,, , ,, grid, , , ,
Point16,xy, , ,in, deg, , ,, , ,, grid, , , ,
Point17,xy, , ,in, deg, , ,, , ,, grid, , , ,
Point18,xy, , ,in, deg, , ,, , ,, grid, , , ,
Point19,xy, , ,in, deg, , ,, , ,, grid, , , ,
Point20,xy, , ,in, deg, , ,, , ,, grid, , , ,
Point21,xy, , ,in, deg, , ,, , ,, grid, , , ,
Point22,xy, , ,in, deg, , ,, , ,, grid, , , ,
Point23,xy, , ,in, deg, , ,, , ,, grid, , , ,
Point24,xy, , ,in, deg, , ,, , ,, grid, , , ,
Point25,xy, , ,in, deg, , ,, , ,, grid, , , ,
Point26,xy, , ,in, deg, , ,, , ,, grid, , , ,
Point27,xy, , ,in, deg, , ,, , ,, grid, , , ,
Point28,xy, , ,in, deg, , ,, , ,, grid, , , ,
Point29,xy, , ,in, deg, , ,, , ,, grid, , , ,
Point30,xy, , ,in, deg, , ,, , ,, grid, , , ,
Projection Setup,,,,,,,,,,
Map Feature = MF ; Map Comment = MC These follow if they exist
Track File = TF These follow if they exist
Moving Map Parameters = MM? These follow if they exist
MM0,Yes
MMPNUM,4
MMPXY,1,0,0
MMPXY,2,6144,0
MMPXY,3,6144,4096
MMPXY,4,0,4096
MMPLL,1, 77.475586, 42.326062
MMPLL,2, 78.530273, 42.326062
MMPLL,3, 78.530273, 41.804078
MMPLL,4, 77.475586, 41.804078
MOP,Map Open Position,0,0
IWH,Map Image Width/Height,6144,4096
